BEGIN:VCALENDAR
VERSION:2.0
PRODID:-//San Francisco Area of Narcotics Anonymous - ECPv6.15.20//NONSGML v1.0//EN
CALSCALE:GREGORIAN
METHOD:PUBLISH
X-WR-CALNAME:San Francisco Area of Narcotics Anonymous
X-ORIGINAL-URL:https://sfna.org
X-WR-CALDESC:Events for San Francisco Area of Narcotics Anonymous
REFRESH-INTERVAL;VALUE=DURATION:PT1H
X-Robots-Tag:noindex
X-PUBLISHED-TTL:PT1H
BEGIN:VTIMEZONE
TZID:America/Los_Angeles
BEGIN:DAYLIGHT
TZOFFSETFROM:-0800
TZOFFSETTO:-0700
TZNAME:PDT
DTSTART:20240310T100000
END:DAYLIGHT
BEGIN:STANDARD
TZOFFSETFROM:-0700
TZOFFSETTO:-0800
TZNAME:PST
DTSTART:20241103T090000
END:STANDARD
BEGIN:DAYLIGHT
TZOFFSETFROM:-0800
TZOFFSETTO:-0700
TZNAME:PDT
DTSTART:20250309T100000
END:DAYLIGHT
BEGIN:STANDARD
TZOFFSETFROM:-0700
TZOFFSETTO:-0800
TZNAME:PST
DTSTART:20251102T090000
END:STANDARD
BEGIN:DAYLIGHT
TZOFFSETFROM:-0800
TZOFFSETTO:-0700
TZNAME:PDT
DTSTART:20260308T100000
END:DAYLIGHT
BEGIN:STANDARD
TZOFFSETFROM:-0700
TZOFFSETTO:-0800
TZNAME:PST
DTSTART:20261101T090000
END:STANDARD
BEGIN:DAYLIGHT
TZOFFSETFROM:-0800
TZOFFSETTO:-0700
TZNAME:PDT
DTSTART:20270314T100000
END:DAYLIGHT
BEGIN:STANDARD
TZOFFSETFROM:-0700
TZOFFSETTO:-0800
TZNAME:PST
DTSTART:20271107T090000
END:STANDARD
END:VTIMEZONE
BEGIN:VEVENT
DTSTART;TZID=America/Los_Angeles:20251105T191500
DTEND;TZID=America/Los_Angeles:20251105T203000
DTSTAMP:20260423T021302
CREATED:20251021T174559Z
LAST-MODIFIED:20251021T175435Z
UID:13281-1762370100-1762374600@sfna.org
SUMMARY:11th Step Retreat Group Virtual Meeting
DESCRIPTION:11th step Retreat Group Meeting \nVirtual Zoom Meeting \nMeeting ID\n889 7229 1763 \nPassword\n915894
URL:https://sfna.org/event/11th-step-retreat-sub-committee-meeting/
CATEGORIES:Area
END:VEVENT
BEGIN:VEVENT
DTSTART;TZID=America/Los_Angeles:20260206T190000
DTEND;TZID=America/Los_Angeles:20260206T210000
DTSTAMP:20260423T021302
CREATED:20251218T162308Z
LAST-MODIFIED:20251218T162308Z
UID:15578-1770404400-1770411600@sfna.org
SUMMARY:First Friday
DESCRIPTION:
URL:https://sfna.org/event/first-friday/
LOCATION:774 Geary Street\, 774 Geary Street\, San Francisco\, CA\, United States
CATEGORIES:Area
ATTACH;FMTTYPE=image/jpeg:https://sfna.org/wp-content/uploads/2025/12/IMG_1408.jpeg
END:VEVENT
BEGIN:VEVENT
DTSTART;TZID=America/Los_Angeles:20260319T183000
DTEND;TZID=America/Los_Angeles:20260319T213000
DTSTAMP:20260423T021302
CREATED:20260311T174642Z
LAST-MODIFIED:20260311T174642Z
UID:16426-1773945000-1773955800@sfna.org
SUMMARY:Literature Sales
DESCRIPTION:Literature orders made online (https://sfna.org/literature/) and can be picked up and paid for in person at the First Unitarian Universalist Church 1187 Franklin St. SF. 94109. Every 3rd Thursday of the month starting on 3/19/26 from 6:30-9pm
URL:https://sfna.org/event/literature-sales/
LOCATION:First Unitarian Church\, 1187 Franklin Street\, San Francisco\, 94109\, United States
CATEGORIES:Area
END:VEVENT
BEGIN:VEVENT
DTSTART;TZID=America/Los_Angeles:20260319T183000
DTEND;TZID=America/Los_Angeles:20260319T213000
DTSTAMP:20260423T021302
CREATED:20260311T175935Z
LAST-MODIFIED:20260311T175935Z
UID:16429-1773945000-1773955800@sfna.org
SUMMARY:Hospitals & Institutions Sub-Committee Meeting
DESCRIPTION:H&I sub-committee meeting will meet monthly the 3rd Thursday of the month at First Unitarian Universalist Church 1187 Franklin St. SF. 94109 \n6:30pm-9:30pm
URL:https://sfna.org/event/hospitals-institutions-sub-committee-meeting/
LOCATION:First Unitarian Church\, 1187 Franklin Street\, San Francisco\, 94109\, United States
CATEGORIES:Area
END:VEVENT
BEGIN:VEVENT
DTSTART;TZID=America/Los_Angeles:20251105T191500
DTEND;TZID=America/Los_Angeles:20251105T203000
DTSTAMP:20260423T021302
CREATED:20251021T174559Z
LAST-MODIFIED:20251021T175435Z
UID:13281-1762370100-1762374600@sfna.org
SUMMARY:11th Step Retreat Group Virtual Meeting
DESCRIPTION:11th step Retreat Group Meeting \nVirtual Zoom Meeting \nMeeting ID\n889 7229 1763 \nPassword\n915894
URL:https://sfna.org/event/11th-step-retreat-sub-committee-meeting/
CATEGORIES:Area
END:VEVENT
BEGIN:VEVENT
DTSTART;TZID=America/Los_Angeles:20260206T190000
DTEND;TZID=America/Los_Angeles:20260206T210000
DTSTAMP:20260423T021302
CREATED:20251218T162308Z
LAST-MODIFIED:20251218T162308Z
UID:15578-1770404400-1770411600@sfna.org
SUMMARY:First Friday
DESCRIPTION:
URL:https://sfna.org/event/first-friday/
LOCATION:774 Geary Street\, 774 Geary Street\, San Francisco\, CA\, United States
CATEGORIES:Area
ATTACH;FMTTYPE=image/jpeg:https://sfna.org/wp-content/uploads/2025/12/IMG_1408.jpeg
END:VEVENT
BEGIN:VEVENT
DTSTART;TZID=America/Los_Angeles:20260319T183000
DTEND;TZID=America/Los_Angeles:20260319T213000
DTSTAMP:20260423T021302
CREATED:20260311T174642Z
LAST-MODIFIED:20260311T174642Z
UID:16426-1773945000-1773955800@sfna.org
SUMMARY:Literature Sales
DESCRIPTION:Literature orders made online (https://sfna.org/literature/) and can be picked up and paid for in person at the First Unitarian Universalist Church 1187 Franklin St. SF. 94109. Every 3rd Thursday of the month starting on 3/19/26 from 6:30-9pm
URL:https://sfna.org/event/literature-sales/
LOCATION:First Unitarian Church\, 1187 Franklin Street\, San Francisco\, 94109\, United States
CATEGORIES:Area
END:VEVENT
BEGIN:VEVENT
DTSTART;TZID=America/Los_Angeles:20260319T183000
DTEND;TZID=America/Los_Angeles:20260319T213000
DTSTAMP:20260423T021302
CREATED:20260311T175935Z
LAST-MODIFIED:20260311T175935Z
UID:16429-1773945000-1773955800@sfna.org
SUMMARY:Hospitals & Institutions Sub-Committee Meeting
DESCRIPTION:H&I sub-committee meeting will meet monthly the 3rd Thursday of the month at First Unitarian Universalist Church 1187 Franklin St. SF. 94109 \n6:30pm-9:30pm
URL:https://sfna.org/event/hospitals-institutions-sub-committee-meeting/
LOCATION:First Unitarian Church\, 1187 Franklin Street\, San Francisco\, 94109\, United States
CATEGORIES:Area
END:VEVENT
BEGIN:VEVENT
DTSTART;TZID=America/Los_Angeles:20251105T191500
DTEND;TZID=America/Los_Angeles:20251105T203000
DTSTAMP:20260423T021302
CREATED:20251021T174559Z
LAST-MODIFIED:20251021T175435Z
UID:13281-1762370100-1762374600@sfna.org
SUMMARY:11th Step Retreat Group Virtual Meeting
DESCRIPTION:11th step Retreat Group Meeting \nVirtual Zoom Meeting \nMeeting ID\n889 7229 1763 \nPassword\n915894
URL:https://sfna.org/event/11th-step-retreat-sub-committee-meeting/
CATEGORIES:Area
END:VEVENT
BEGIN:VEVENT
DTSTART;TZID=America/Los_Angeles:20260206T190000
DTEND;TZID=America/Los_Angeles:20260206T210000
DTSTAMP:20260423T021302
CREATED:20251218T162308Z
LAST-MODIFIED:20251218T162308Z
UID:15578-1770404400-1770411600@sfna.org
SUMMARY:First Friday
DESCRIPTION:
URL:https://sfna.org/event/first-friday/
LOCATION:774 Geary Street\, 774 Geary Street\, San Francisco\, CA\, United States
CATEGORIES:Area
ATTACH;FMTTYPE=image/jpeg:https://sfna.org/wp-content/uploads/2025/12/IMG_1408.jpeg
END:VEVENT
BEGIN:VEVENT
DTSTART;TZID=America/Los_Angeles:20260319T183000
DTEND;TZID=America/Los_Angeles:20260319T213000
DTSTAMP:20260423T021302
CREATED:20260311T174642Z
LAST-MODIFIED:20260311T174642Z
UID:16426-1773945000-1773955800@sfna.org
SUMMARY:Literature Sales
DESCRIPTION:Literature orders made online (https://sfna.org/literature/) and can be picked up and paid for in person at the First Unitarian Universalist Church 1187 Franklin St. SF. 94109. Every 3rd Thursday of the month starting on 3/19/26 from 6:30-9pm
URL:https://sfna.org/event/literature-sales/
LOCATION:First Unitarian Church\, 1187 Franklin Street\, San Francisco\, 94109\, United States
CATEGORIES:Area
END:VEVENT
BEGIN:VEVENT
DTSTART;TZID=America/Los_Angeles:20260319T183000
DTEND;TZID=America/Los_Angeles:20260319T213000
DTSTAMP:20260423T021302
CREATED:20260311T175935Z
LAST-MODIFIED:20260311T175935Z
UID:16429-1773945000-1773955800@sfna.org
SUMMARY:Hospitals & Institutions Sub-Committee Meeting
DESCRIPTION:H&I sub-committee meeting will meet monthly the 3rd Thursday of the month at First Unitarian Universalist Church 1187 Franklin St. SF. 94109 \n6:30pm-9:30pm
URL:https://sfna.org/event/hospitals-institutions-sub-committee-meeting/
LOCATION:First Unitarian Church\, 1187 Franklin Street\, San Francisco\, 94109\, United States
CATEGORIES:Area
END:VEVENT
BEGIN:VEVENT
DTSTART;TZID=America/Los_Angeles:20260206T190000
DTEND;TZID=America/Los_Angeles:20260206T210000
DTSTAMP:20260423T021302
CREATED:20251218T162308Z
LAST-MODIFIED:20251218T162308Z
UID:15578-1770404400-1770411600@sfna.org
SUMMARY:First Friday
DESCRIPTION:
URL:https://sfna.org/event/first-friday/
LOCATION:774 Geary Street\, 774 Geary Street\, San Francisco\, CA\, United States
CATEGORIES:Area
ATTACH;FMTTYPE=image/jpeg:https://sfna.org/wp-content/uploads/2025/12/IMG_1408.jpeg
END:VEVENT
BEGIN:VEVENT
DTSTART;TZID=America/Los_Angeles:20251105T191500
DTEND;TZID=America/Los_Angeles:20251105T203000
DTSTAMP:20260423T021302
CREATED:20251021T174559Z
LAST-MODIFIED:20251021T175435Z
UID:13281-1762370100-1762374600@sfna.org
SUMMARY:11th Step Retreat Group Virtual Meeting
DESCRIPTION:11th step Retreat Group Meeting \nVirtual Zoom Meeting \nMeeting ID\n889 7229 1763 \nPassword\n915894
URL:https://sfna.org/event/11th-step-retreat-sub-committee-meeting/
CATEGORIES:Area
END:VEVENT
BEGIN:VEVENT
DTSTART;TZID=America/Los_Angeles:20260319T183000
DTEND;TZID=America/Los_Angeles:20260319T213000
DTSTAMP:20260423T021302
CREATED:20260311T174642Z
LAST-MODIFIED:20260311T174642Z
UID:16426-1773945000-1773955800@sfna.org
SUMMARY:Literature Sales
DESCRIPTION:Literature orders made online (https://sfna.org/literature/) and can be picked up and paid for in person at the First Unitarian Universalist Church 1187 Franklin St. SF. 94109. Every 3rd Thursday of the month starting on 3/19/26 from 6:30-9pm
URL:https://sfna.org/event/literature-sales/
LOCATION:First Unitarian Church\, 1187 Franklin Street\, San Francisco\, 94109\, United States
CATEGORIES:Area
END:VEVENT
BEGIN:VEVENT
DTSTART;TZID=America/Los_Angeles:20260319T183000
DTEND;TZID=America/Los_Angeles:20260319T213000
DTSTAMP:20260423T021302
CREATED:20260311T175935Z
LAST-MODIFIED:20260311T175935Z
UID:16429-1773945000-1773955800@sfna.org
SUMMARY:Hospitals & Institutions Sub-Committee Meeting
DESCRIPTION:H&I sub-committee meeting will meet monthly the 3rd Thursday of the month at First Unitarian Universalist Church 1187 Franklin St. SF. 94109 \n6:30pm-9:30pm
URL:https://sfna.org/event/hospitals-institutions-sub-committee-meeting/
LOCATION:First Unitarian Church\, 1187 Franklin Street\, San Francisco\, 94109\, United States
CATEGORIES:Area
END:VEVENT
BEGIN:VEVENT
DTSTART;TZID=America/Los_Angeles:20251105T191500
DTEND;TZID=America/Los_Angeles:20251105T203000
DTSTAMP:20260423T021302
CREATED:20251021T174559Z
LAST-MODIFIED:20251021T175435Z
UID:13281-1762370100-1762374600@sfna.org
SUMMARY:11th Step Retreat Group Virtual Meeting
DESCRIPTION:11th step Retreat Group Meeting \nVirtual Zoom Meeting \nMeeting ID\n889 7229 1763 \nPassword\n915894
URL:https://sfna.org/event/11th-step-retreat-sub-committee-meeting/
CATEGORIES:Area
END:VEVENT
BEGIN:VEVENT
DTSTART;TZID=America/Los_Angeles:20260206T190000
DTEND;TZID=America/Los_Angeles:20260206T210000
DTSTAMP:20260423T021302
CREATED:20251218T162308Z
LAST-MODIFIED:20251218T162308Z
UID:15578-1770404400-1770411600@sfna.org
SUMMARY:First Friday
DESCRIPTION:
URL:https://sfna.org/event/first-friday/
LOCATION:774 Geary Street\, 774 Geary Street\, San Francisco\, CA\, United States
CATEGORIES:Area
ATTACH;FMTTYPE=image/jpeg:https://sfna.org/wp-content/uploads/2025/12/IMG_1408.jpeg
END:VEVENT
BEGIN:VEVENT
DTSTART;TZID=America/Los_Angeles:20260319T183000
DTEND;TZID=America/Los_Angeles:20260319T213000
DTSTAMP:20260423T021302
CREATED:20260311T174642Z
LAST-MODIFIED:20260311T174642Z
UID:16426-1773945000-1773955800@sfna.org
SUMMARY:Literature Sales
DESCRIPTION:Literature orders made online (https://sfna.org/literature/) and can be picked up and paid for in person at the First Unitarian Universalist Church 1187 Franklin St. SF. 94109. Every 3rd Thursday of the month starting on 3/19/26 from 6:30-9pm
URL:https://sfna.org/event/literature-sales/
LOCATION:First Unitarian Church\, 1187 Franklin Street\, San Francisco\, 94109\, United States
CATEGORIES:Area
END:VEVENT
BEGIN:VEVENT
DTSTART;TZID=America/Los_Angeles:20260319T183000
DTEND;TZID=America/Los_Angeles:20260319T213000
DTSTAMP:20260423T021302
CREATED:20260311T175935Z
LAST-MODIFIED:20260311T175935Z
UID:16429-1773945000-1773955800@sfna.org
SUMMARY:Hospitals & Institutions Sub-Committee Meeting
DESCRIPTION:H&I sub-committee meeting will meet monthly the 3rd Thursday of the month at First Unitarian Universalist Church 1187 Franklin St. SF. 94109 \n6:30pm-9:30pm
URL:https://sfna.org/event/hospitals-institutions-sub-committee-meeting/
LOCATION:First Unitarian Church\, 1187 Franklin Street\, San Francisco\, 94109\, United States
CATEGORIES:Area
END:VEVENT
BEGIN:VEVENT
DTSTART;TZID=America/Los_Angeles:20251105T191500
DTEND;TZID=America/Los_Angeles:20251105T203000
DTSTAMP:20260423T021302
CREATED:20251021T174559Z
LAST-MODIFIED:20251021T175435Z
UID:13281-1762370100-1762374600@sfna.org
SUMMARY:11th Step Retreat Group Virtual Meeting
DESCRIPTION:11th step Retreat Group Meeting \nVirtual Zoom Meeting \nMeeting ID\n889 7229 1763 \nPassword\n915894
URL:https://sfna.org/event/11th-step-retreat-sub-committee-meeting/
CATEGORIES:Area
END:VEVENT
BEGIN:VEVENT
DTSTART;TZID=America/Los_Angeles:20260206T190000
DTEND;TZID=America/Los_Angeles:20260206T210000
DTSTAMP:20260423T021302
CREATED:20251218T162308Z
LAST-MODIFIED:20251218T162308Z
UID:15578-1770404400-1770411600@sfna.org
SUMMARY:First Friday
DESCRIPTION:
URL:https://sfna.org/event/first-friday/
LOCATION:774 Geary Street\, 774 Geary Street\, San Francisco\, CA\, United States
CATEGORIES:Area
ATTACH;FMTTYPE=image/jpeg:https://sfna.org/wp-content/uploads/2025/12/IMG_1408.jpeg
END:VEVENT
BEGIN:VEVENT
DTSTART;TZID=America/Los_Angeles:20260319T183000
DTEND;TZID=America/Los_Angeles:20260319T213000
DTSTAMP:20260423T021302
CREATED:20260311T174642Z
LAST-MODIFIED:20260311T174642Z
UID:16426-1773945000-1773955800@sfna.org
SUMMARY:Literature Sales
DESCRIPTION:Literature orders made online (https://sfna.org/literature/) and can be picked up and paid for in person at the First Unitarian Universalist Church 1187 Franklin St. SF. 94109. Every 3rd Thursday of the month starting on 3/19/26 from 6:30-9pm
URL:https://sfna.org/event/literature-sales/
LOCATION:First Unitarian Church\, 1187 Franklin Street\, San Francisco\, 94109\, United States
CATEGORIES:Area
END:VEVENT
BEGIN:VEVENT
DTSTART;TZID=America/Los_Angeles:20260319T183000
DTEND;TZID=America/Los_Angeles:20260319T213000
DTSTAMP:20260423T021302
CREATED:20260311T175935Z
LAST-MODIFIED:20260311T175935Z
UID:16429-1773945000-1773955800@sfna.org
SUMMARY:Hospitals & Institutions Sub-Committee Meeting
DESCRIPTION:H&I sub-committee meeting will meet monthly the 3rd Thursday of the month at First Unitarian Universalist Church 1187 Franklin St. SF. 94109 \n6:30pm-9:30pm
URL:https://sfna.org/event/hospitals-institutions-sub-committee-meeting/
LOCATION:First Unitarian Church\, 1187 Franklin Street\, San Francisco\, 94109\, United States
CATEGORIES:Area
END:VEVENT
BEGIN:VEVENT
DTSTART;TZID=America/Los_Angeles:20260206T190000
DTEND;TZID=America/Los_Angeles:20260206T210000
DTSTAMP:20260423T021302
CREATED:20251218T162308Z
LAST-MODIFIED:20251218T162308Z
UID:15578-1770404400-1770411600@sfna.org
SUMMARY:First Friday
DESCRIPTION:
URL:https://sfna.org/event/first-friday/
LOCATION:774 Geary Street\, 774 Geary Street\, San Francisco\, CA\, United States
CATEGORIES:Area
ATTACH;FMTTYPE=image/jpeg:https://sfna.org/wp-content/uploads/2025/12/IMG_1408.jpeg
END:VEVENT
BEGIN:VEVENT
DTSTART;TZID=America/Los_Angeles:20260319T183000
DTEND;TZID=America/Los_Angeles:20260319T213000
DTSTAMP:20260423T021302
CREATED:20260311T174642Z
LAST-MODIFIED:20260311T174642Z
UID:16426-1773945000-1773955800@sfna.org
SUMMARY:Literature Sales
DESCRIPTION:Literature orders made online (https://sfna.org/literature/) and can be picked up and paid for in person at the First Unitarian Universalist Church 1187 Franklin St. SF. 94109. Every 3rd Thursday of the month starting on 3/19/26 from 6:30-9pm
URL:https://sfna.org/event/literature-sales/
LOCATION:First Unitarian Church\, 1187 Franklin Street\, San Francisco\, 94109\, United States
CATEGORIES:Area
END:VEVENT
BEGIN:VEVENT
DTSTART;TZID=America/Los_Angeles:20260319T183000
DTEND;TZID=America/Los_Angeles:20260319T213000
DTSTAMP:20260423T021302
CREATED:20260311T175935Z
LAST-MODIFIED:20260311T175935Z
UID:16429-1773945000-1773955800@sfna.org
SUMMARY:Hospitals & Institutions Sub-Committee Meeting
DESCRIPTION:H&I sub-committee meeting will meet monthly the 3rd Thursday of the month at First Unitarian Universalist Church 1187 Franklin St. SF. 94109 \n6:30pm-9:30pm
URL:https://sfna.org/event/hospitals-institutions-sub-committee-meeting/
LOCATION:First Unitarian Church\, 1187 Franklin Street\, San Francisco\, 94109\, United States
CATEGORIES:Area
END:VEVENT
BEGIN:VEVENT
DTSTART;TZID=America/Los_Angeles:20260206T190000
DTEND;TZID=America/Los_Angeles:20260206T210000
DTSTAMP:20260423T021302
CREATED:20251218T162308Z
LAST-MODIFIED:20251218T162308Z
UID:15578-1770404400-1770411600@sfna.org
SUMMARY:First Friday
DESCRIPTION:
URL:https://sfna.org/event/first-friday/
LOCATION:774 Geary Street\, 774 Geary Street\, San Francisco\, CA\, United States
CATEGORIES:Area
ATTACH;FMTTYPE=image/jpeg:https://sfna.org/wp-content/uploads/2025/12/IMG_1408.jpeg
END:VEVENT
BEGIN:VEVENT
DTSTART;TZID=America/Los_Angeles:20260319T183000
DTEND;TZID=America/Los_Angeles:20260319T213000
DTSTAMP:20260423T021302
CREATED:20260311T174642Z
LAST-MODIFIED:20260311T174642Z
UID:16426-1773945000-1773955800@sfna.org
SUMMARY:Literature Sales
DESCRIPTION:Literature orders made online (https://sfna.org/literature/) and can be picked up and paid for in person at the First Unitarian Universalist Church 1187 Franklin St. SF. 94109. Every 3rd Thursday of the month starting on 3/19/26 from 6:30-9pm
URL:https://sfna.org/event/literature-sales/
LOCATION:First Unitarian Church\, 1187 Franklin Street\, San Francisco\, 94109\, United States
CATEGORIES:Area
END:VEVENT
BEGIN:VEVENT
DTSTART;TZID=America/Los_Angeles:20260319T183000
DTEND;TZID=America/Los_Angeles:20260319T213000
DTSTAMP:20260423T021302
CREATED:20260311T175935Z
LAST-MODIFIED:20260311T175935Z
UID:16429-1773945000-1773955800@sfna.org
SUMMARY:Hospitals & Institutions Sub-Committee Meeting
DESCRIPTION:H&I sub-committee meeting will meet monthly the 3rd Thursday of the month at First Unitarian Universalist Church 1187 Franklin St. SF. 94109 \n6:30pm-9:30pm
URL:https://sfna.org/event/hospitals-institutions-sub-committee-meeting/
LOCATION:First Unitarian Church\, 1187 Franklin Street\, San Francisco\, 94109\, United States
CATEGORIES:Area
END:VEVENT
END:VCALENDAR