BEGIN:VCALENDAR
VERSION:2.0
PRODID:-//San Francisco Area of Narcotics Anonymous - ECPv6.15.20//NONSGML v1.0//EN
CALSCALE:GREGORIAN
METHOD:PUBLISH
X-ORIGINAL-URL:https://sfna.org
X-WR-CALDESC:Events for San Francisco Area of Narcotics Anonymous
REFRESH-INTERVAL;VALUE=DURATION:PT1H
X-Robots-Tag:noindex
X-PUBLISHED-TTL:PT1H
BEGIN:VTIMEZONE
TZID:America/Los_Angeles
BEGIN:DAYLIGHT
TZOFFSETFROM:-0800
TZOFFSETTO:-0700
TZNAME:PDT
DTSTART:20210314T100000
END:DAYLIGHT
BEGIN:STANDARD
TZOFFSETFROM:-0700
TZOFFSETTO:-0800
TZNAME:PST
DTSTART:20211107T090000
END:STANDARD
BEGIN:DAYLIGHT
TZOFFSETFROM:-0800
TZOFFSETTO:-0700
TZNAME:PDT
DTSTART:20220313T100000
END:DAYLIGHT
BEGIN:STANDARD
TZOFFSETFROM:-0700
TZOFFSETTO:-0800
TZNAME:PST
DTSTART:20221106T090000
END:STANDARD
BEGIN:DAYLIGHT
TZOFFSETFROM:-0800
TZOFFSETTO:-0700
TZNAME:PDT
DTSTART:20230312T100000
END:DAYLIGHT
BEGIN:STANDARD
TZOFFSETFROM:-0700
TZOFFSETTO:-0800
TZNAME:PST
DTSTART:20231105T090000
END:STANDARD
BEGIN:DAYLIGHT
TZOFFSETFROM:-0800
TZOFFSETTO:-0700
TZNAME:PDT
DTSTART:20240310T100000
END:DAYLIGHT
BEGIN:STANDARD
TZOFFSETFROM:-0700
TZOFFSETTO:-0800
TZNAME:PST
DTSTART:20241103T090000
END:STANDARD
BEGIN:DAYLIGHT
TZOFFSETFROM:-0800
TZOFFSETTO:-0700
TZNAME:PDT
DTSTART:20250309T100000
END:DAYLIGHT
BEGIN:STANDARD
TZOFFSETFROM:-0700
TZOFFSETTO:-0800
TZNAME:PST
DTSTART:20251102T090000
END:STANDARD
BEGIN:DAYLIGHT
TZOFFSETFROM:-0800
TZOFFSETTO:-0700
TZNAME:PDT
DTSTART:20260308T100000
END:DAYLIGHT
BEGIN:STANDARD
TZOFFSETFROM:-0700
TZOFFSETTO:-0800
TZNAME:PST
DTSTART:20261101T090000
END:STANDARD
END:VTIMEZONE
BEGIN:VEVENT
DTSTART;TZID=America/Los_Angeles:20241216T190000
DTEND;TZID=America/Los_Angeles:20241216T210000
DTSTAMP:20260425T054112
CREATED:20241217T011745Z
LAST-MODIFIED:20250115T163739Z
UID:10650-1734375600-1734382800@sfna.org
SUMMARY:Predatory Behavior Ad Hoc
DESCRIPTION:SFNA is inviting you to a scheduled Zoom meeting. \nTopic: SFNA’s Zoom Meeting\nTime: Dec 16\, 2024 07:00 PM Pacific Time (US and Canada) \n— \nOne tap mobile\n+16694449171\,\,87127230842#\,\,\,\,*475982# US\n+17193594580\,\,87127230842#\,\,\,\,*475982# US \n— \nDial by your location\n• +1 669 444 9171 US\n• +1 719 359 4580 US\n• +1 720 707 2699 US (Denver)\n• +1 253 205 0468 US\n• +1 253 215 8782 US (Tacoma)\n• +1 346 248 7799 US (Houston)\n• +1 646 558 8656 US (New York)\n• +1 646 931 3860 US\n• +1 689 278 1000 US\n• +1 301 715 8592 US (Washington DC)\n• +1 305 224 1968 US\n• +1 309 205 3325 US\n• +1 312 626 6799 US (Chicago)\n• +1 360 209 5623 US\n• +1 386 347 5053 US\n• +1 507 473 4847 US\n• +1 564 217 2000 US \nMeeting ID: 871 2723 0842\nPasscode: 475982 \nFind your local number: https://us06web.zoom.us/u/k7Tx0JHOS \n 
URL:https://sfna.org/event/predatory-behavior-ad-hoc/
CATEGORIES:Area
END:VEVENT
BEGIN:VEVENT
DTSTART;TZID=America/Los_Angeles:20241224T140000
DTEND;TZID=America/Los_Angeles:20241224T220000
DTSTAMP:20260425T054112
CREATED:20241030T224504Z
LAST-MODIFIED:20241030T224504Z
UID:10345-1735048800-1735077600@sfna.org
SUMMARY:Holiday NArathon Meeting
DESCRIPTION:
URL:https://sfna.org/event/holiday-narathon-meeting/
LOCATION:1031 Franklin St\, 245 11th Street\, San Francisco\, CA\, 94103\, United States
CATEGORIES:Area
END:VEVENT
BEGIN:VEVENT
DTSTART;TZID=America/Los_Angeles:20241225T100000
DTEND;TZID=America/Los_Angeles:20241225T180000
DTSTAMP:20260425T054112
CREATED:20241030T224549Z
LAST-MODIFIED:20241204T214010Z
UID:10348-1735120800-1735149600@sfna.org
SUMMARY:Holiday NArathon Meeting
DESCRIPTION:
URL:https://sfna.org/event/holiday-narathon-meeting-2/
LOCATION:1031 Franklin St\, 245 11th Street\, San Francisco\, CA\, 94103\, United States
CATEGORIES:Area
END:VEVENT
BEGIN:VEVENT
DTSTART;TZID=America/Los_Angeles:20221109T180000
DTEND;TZID=America/Los_Angeles:20221109T200000
DTSTAMP:20260425T054112
CREATED:20221110T022247Z
LAST-MODIFIED:20230214T045710Z
UID:1624-1668016800-1668024000@sfna.org
SUMMARY:Hospitals and Institutions Subcommittee Meeting
DESCRIPTION:H&I subcommittee meeting\nMeets every second Wednesday of the month at 6pm\nIn person at\n1290 Fillmore St San Francisco\, CA  94115 United States
URL:https://sfna.org/event/1624/
LOCATION:San Francisco Area Service Office\, 1290 Fillmore St\, San Francisco\, CA\, 94115\, United States
CATEGORIES:Area
END:VEVENT
BEGIN:VEVENT
DTSTART;TZID=America/Los_Angeles:20241111T190000
DTEND;TZID=America/Los_Angeles:20241111T190000
DTSTAMP:20260425T054112
CREATED:20220518T231719Z
LAST-MODIFIED:20250107T002552Z
UID:241-1731351600-1731351600@sfna.org
SUMMARY:Joint Administrative Committee Meeting
DESCRIPTION:SFNA is inviting you to a scheduled Zoom meeting. \nTopic: JAC (2nd Mondays)\nTime: This is a recurring meeting Meet anytime \nJoin Zoom Meeting\nhttps://us06web.zoom.us/j/95621212763 \nMeeting ID: 956 2121 2763\nOne tap mobile\n+16694449171\,\,95621212763# US\n+13462487799\,\,95621212763# US (Houston) \nDial by your location\n+1 669 444 9171 US\n+1 346 248 7799 US (Houston)\n+1 719 359 4580 US\n+1 720 707 2699 US (Denver)\n+1 253 205 0468 US\n+1 253 215 8782 US (Tacoma)\n+1 305 224 1968 US\n+1 309 205 3325 US\n+1 312 626 6799 US (Chicago)\n+1 360 209 5623 US\n+1 386 347 5053 US\n+1 507 473 4847 US\n+1 564 217 2000 US\n+1 646 558 8656 US (New York)\n+1 646 931 3860 US\n+1 689 278 1000 US\n+1 301 715 8592 US (Washington DC)\nMeeting ID: 956 2121 2763\nFind your local number: https://us06web.zoom.us/u/keAV7Krjim \n 
URL:https://sfna.org/event/joint-administartive-committee-meeting/
CATEGORIES:Area
END:VEVENT
BEGIN:VEVENT
DTSTART;TZID=America/Los_Angeles:20241216T190000
DTEND;TZID=America/Los_Angeles:20241216T210000
DTSTAMP:20260425T054112
CREATED:20241217T011745Z
LAST-MODIFIED:20250115T163739Z
UID:10650-1734375600-1734382800@sfna.org
SUMMARY:Predatory Behavior Ad Hoc
DESCRIPTION:SFNA is inviting you to a scheduled Zoom meeting. \nTopic: SFNA’s Zoom Meeting\nTime: Dec 16\, 2024 07:00 PM Pacific Time (US and Canada) \n— \nOne tap mobile\n+16694449171\,\,87127230842#\,\,\,\,*475982# US\n+17193594580\,\,87127230842#\,\,\,\,*475982# US \n— \nDial by your location\n• +1 669 444 9171 US\n• +1 719 359 4580 US\n• +1 720 707 2699 US (Denver)\n• +1 253 205 0468 US\n• +1 253 215 8782 US (Tacoma)\n• +1 346 248 7799 US (Houston)\n• +1 646 558 8656 US (New York)\n• +1 646 931 3860 US\n• +1 689 278 1000 US\n• +1 301 715 8592 US (Washington DC)\n• +1 305 224 1968 US\n• +1 309 205 3325 US\n• +1 312 626 6799 US (Chicago)\n• +1 360 209 5623 US\n• +1 386 347 5053 US\n• +1 507 473 4847 US\n• +1 564 217 2000 US \nMeeting ID: 871 2723 0842\nPasscode: 475982 \nFind your local number: https://us06web.zoom.us/u/k7Tx0JHOS \n 
URL:https://sfna.org/event/predatory-behavior-ad-hoc/
CATEGORIES:Area
END:VEVENT
BEGIN:VEVENT
DTSTART;TZID=America/Los_Angeles:20250127T190000
DTEND;TZID=America/Los_Angeles:20250127T210000
DTSTAMP:20260425T054112
CREATED:20250122T011745Z
LAST-MODIFIED:20250128T024311Z
UID:10849-1738004400-1738011600@sfna.org
SUMMARY:Predatory Behavior Ad Hoc
DESCRIPTION:──────────\nSFNA is inviting you to a scheduled Zoom meeting.\nJoin Zoom Meeting\nhttps://us06web.zoom.us/j/82059474989?pwd=xTRaxpbGzcnnWEOuUn0RMhXPulJiky.1 \nMeeting ID: 820 5947 4989\nPasscode: 021311 \n— \nOne tap mobile\n+16694449171\,\,82059474989#\,\,\,\,*021311# US\n+12532158782\,\,82059474989#\,\,\,\,*021311# US (Tacoma) \n— \nDial by your location\n• +1 669 444 9171 US\n• +1 253 215 8782 US (Tacoma)\n• +1 346 248 7799 US (Houston)\n• +1 719 359 4580 US\n• +1 720 707 2699 US (Denver)\n• +1 253 205 0468 US\n• +1 312 626 6799 US (Chicago)\n• +1 360 209 5623 US\n• +1 386 347 5053 US\n• +1 507 473 4847 US\n• +1 564 217 2000 US\n• +1 646 558 8656 US (New York)\n• +1 646 931 3860 US\n• +1 689 278 1000 US\n• +1 301 715 8592 US (Washington DC)\n• +1 305 224 1968 US\n• +1 309 205 3325 US \nMeeting ID: 820 5947 4989\nPasscode: 021311 \nFind your local number:https://us06web.zoom.us/u/kFXAMKnmt \n──────────
URL:https://sfna.org/event/predatory-behavior-ad-hoc-2/
CATEGORIES:Area
END:VEVENT
BEGIN:VEVENT
DTSTART;TZID=America/Los_Angeles:20250207T190000
DTEND;TZID=America/Los_Angeles:20250207T190000
DTSTAMP:20260425T054112
CREATED:20250131T003553Z
LAST-MODIFIED:20250131T003553Z
UID:10888-1738954800-1738954800@sfna.org
SUMMARY:RAW First Fridays Event
DESCRIPTION:There will be no literature study this night. \n\ndouble speaker\nfood\nfun\nfellowship\n\n 
URL:https://sfna.org/event/raw-first-fridays-event/
LOCATION:774 Geary Street\, 774 Geary Street\, San Francisco\, CA\, United States
CATEGORIES:Area
ATTACH;FMTTYPE=image/jpeg:https://sfna.org/wp-content/uploads/2025/01/IMG_1401.jpeg
END:VEVENT
BEGIN:VEVENT
DTSTART;TZID=America/Los_Angeles:20241111T190000
DTEND;TZID=America/Los_Angeles:20241111T190000
DTSTAMP:20260425T054112
CREATED:20220518T231719Z
LAST-MODIFIED:20250107T002552Z
UID:241-1731351600-1731351600@sfna.org
SUMMARY:Joint Administrative Committee Meeting
DESCRIPTION:SFNA is inviting you to a scheduled Zoom meeting. \nTopic: JAC (2nd Mondays)\nTime: This is a recurring meeting Meet anytime \nJoin Zoom Meeting\nhttps://us06web.zoom.us/j/95621212763 \nMeeting ID: 956 2121 2763\nOne tap mobile\n+16694449171\,\,95621212763# US\n+13462487799\,\,95621212763# US (Houston) \nDial by your location\n+1 669 444 9171 US\n+1 346 248 7799 US (Houston)\n+1 719 359 4580 US\n+1 720 707 2699 US (Denver)\n+1 253 205 0468 US\n+1 253 215 8782 US (Tacoma)\n+1 305 224 1968 US\n+1 309 205 3325 US\n+1 312 626 6799 US (Chicago)\n+1 360 209 5623 US\n+1 386 347 5053 US\n+1 507 473 4847 US\n+1 564 217 2000 US\n+1 646 558 8656 US (New York)\n+1 646 931 3860 US\n+1 689 278 1000 US\n+1 301 715 8592 US (Washington DC)\nMeeting ID: 956 2121 2763\nFind your local number: https://us06web.zoom.us/u/keAV7Krjim \n 
URL:https://sfna.org/event/joint-administartive-committee-meeting/
CATEGORIES:Area
END:VEVENT
BEGIN:VEVENT
DTSTART;TZID=America/Los_Angeles:20221109T180000
DTEND;TZID=America/Los_Angeles:20221109T200000
DTSTAMP:20260425T054112
CREATED:20221110T022247Z
LAST-MODIFIED:20230214T045710Z
UID:1624-1668016800-1668024000@sfna.org
SUMMARY:Hospitals and Institutions Subcommittee Meeting
DESCRIPTION:H&I subcommittee meeting\nMeets every second Wednesday of the month at 6pm\nIn person at\n1290 Fillmore St San Francisco\, CA  94115 United States
URL:https://sfna.org/event/1624/
LOCATION:San Francisco Area Service Office\, 1290 Fillmore St\, San Francisco\, CA\, 94115\, United States
CATEGORIES:Area
END:VEVENT
BEGIN:VEVENT
DTSTART;TZID=America/Los_Angeles:20250127T190000
DTEND;TZID=America/Los_Angeles:20250127T210000
DTSTAMP:20260425T054112
CREATED:20250122T011745Z
LAST-MODIFIED:20250128T024311Z
UID:10849-1738004400-1738011600@sfna.org
SUMMARY:Predatory Behavior Ad Hoc
DESCRIPTION:──────────\nSFNA is inviting you to a scheduled Zoom meeting.\nJoin Zoom Meeting\nhttps://us06web.zoom.us/j/82059474989?pwd=xTRaxpbGzcnnWEOuUn0RMhXPulJiky.1 \nMeeting ID: 820 5947 4989\nPasscode: 021311 \n— \nOne tap mobile\n+16694449171\,\,82059474989#\,\,\,\,*021311# US\n+12532158782\,\,82059474989#\,\,\,\,*021311# US (Tacoma) \n— \nDial by your location\n• +1 669 444 9171 US\n• +1 253 215 8782 US (Tacoma)\n• +1 346 248 7799 US (Houston)\n• +1 719 359 4580 US\n• +1 720 707 2699 US (Denver)\n• +1 253 205 0468 US\n• +1 312 626 6799 US (Chicago)\n• +1 360 209 5623 US\n• +1 386 347 5053 US\n• +1 507 473 4847 US\n• +1 564 217 2000 US\n• +1 646 558 8656 US (New York)\n• +1 646 931 3860 US\n• +1 689 278 1000 US\n• +1 301 715 8592 US (Washington DC)\n• +1 305 224 1968 US\n• +1 309 205 3325 US \nMeeting ID: 820 5947 4989\nPasscode: 021311 \nFind your local number:https://us06web.zoom.us/u/kFXAMKnmt \n──────────
URL:https://sfna.org/event/predatory-behavior-ad-hoc-2/
CATEGORIES:Area
END:VEVENT
BEGIN:VEVENT
DTSTART;TZID=America/Los_Angeles:20241111T190000
DTEND;TZID=America/Los_Angeles:20241111T190000
DTSTAMP:20260425T054112
CREATED:20220518T231719Z
LAST-MODIFIED:20250107T002552Z
UID:241-1731351600-1731351600@sfna.org
SUMMARY:Joint Administrative Committee Meeting
DESCRIPTION:SFNA is inviting you to a scheduled Zoom meeting. \nTopic: JAC (2nd Mondays)\nTime: This is a recurring meeting Meet anytime \nJoin Zoom Meeting\nhttps://us06web.zoom.us/j/95621212763 \nMeeting ID: 956 2121 2763\nOne tap mobile\n+16694449171\,\,95621212763# US\n+13462487799\,\,95621212763# US (Houston) \nDial by your location\n+1 669 444 9171 US\n+1 346 248 7799 US (Houston)\n+1 719 359 4580 US\n+1 720 707 2699 US (Denver)\n+1 253 205 0468 US\n+1 253 215 8782 US (Tacoma)\n+1 305 224 1968 US\n+1 309 205 3325 US\n+1 312 626 6799 US (Chicago)\n+1 360 209 5623 US\n+1 386 347 5053 US\n+1 507 473 4847 US\n+1 564 217 2000 US\n+1 646 558 8656 US (New York)\n+1 646 931 3860 US\n+1 689 278 1000 US\n+1 301 715 8592 US (Washington DC)\nMeeting ID: 956 2121 2763\nFind your local number: https://us06web.zoom.us/u/keAV7Krjim \n 
URL:https://sfna.org/event/joint-administartive-committee-meeting/
CATEGORIES:Area
END:VEVENT
BEGIN:VEVENT
DTSTART;TZID=America/Los_Angeles:20250127T190000
DTEND;TZID=America/Los_Angeles:20250127T210000
DTSTAMP:20260425T054113
CREATED:20250122T011745Z
LAST-MODIFIED:20250128T024311Z
UID:10849-1738004400-1738011600@sfna.org
SUMMARY:Predatory Behavior Ad Hoc
DESCRIPTION:──────────\nSFNA is inviting you to a scheduled Zoom meeting.\nJoin Zoom Meeting\nhttps://us06web.zoom.us/j/82059474989?pwd=xTRaxpbGzcnnWEOuUn0RMhXPulJiky.1 \nMeeting ID: 820 5947 4989\nPasscode: 021311 \n— \nOne tap mobile\n+16694449171\,\,82059474989#\,\,\,\,*021311# US\n+12532158782\,\,82059474989#\,\,\,\,*021311# US (Tacoma) \n— \nDial by your location\n• +1 669 444 9171 US\n• +1 253 215 8782 US (Tacoma)\n• +1 346 248 7799 US (Houston)\n• +1 719 359 4580 US\n• +1 720 707 2699 US (Denver)\n• +1 253 205 0468 US\n• +1 312 626 6799 US (Chicago)\n• +1 360 209 5623 US\n• +1 386 347 5053 US\n• +1 507 473 4847 US\n• +1 564 217 2000 US\n• +1 646 558 8656 US (New York)\n• +1 646 931 3860 US\n• +1 689 278 1000 US\n• +1 301 715 8592 US (Washington DC)\n• +1 305 224 1968 US\n• +1 309 205 3325 US \nMeeting ID: 820 5947 4989\nPasscode: 021311 \nFind your local number:https://us06web.zoom.us/u/kFXAMKnmt \n──────────
URL:https://sfna.org/event/predatory-behavior-ad-hoc-2/
CATEGORIES:Area
END:VEVENT
BEGIN:VEVENT
DTSTART;TZID=America/Los_Angeles:20241111T190000
DTEND;TZID=America/Los_Angeles:20241111T190000
DTSTAMP:20260425T054113
CREATED:20220518T231719Z
LAST-MODIFIED:20250107T002552Z
UID:241-1731351600-1731351600@sfna.org
SUMMARY:Joint Administrative Committee Meeting
DESCRIPTION:SFNA is inviting you to a scheduled Zoom meeting. \nTopic: JAC (2nd Mondays)\nTime: This is a recurring meeting Meet anytime \nJoin Zoom Meeting\nhttps://us06web.zoom.us/j/95621212763 \nMeeting ID: 956 2121 2763\nOne tap mobile\n+16694449171\,\,95621212763# US\n+13462487799\,\,95621212763# US (Houston) \nDial by your location\n+1 669 444 9171 US\n+1 346 248 7799 US (Houston)\n+1 719 359 4580 US\n+1 720 707 2699 US (Denver)\n+1 253 205 0468 US\n+1 253 215 8782 US (Tacoma)\n+1 305 224 1968 US\n+1 309 205 3325 US\n+1 312 626 6799 US (Chicago)\n+1 360 209 5623 US\n+1 386 347 5053 US\n+1 507 473 4847 US\n+1 564 217 2000 US\n+1 646 558 8656 US (New York)\n+1 646 931 3860 US\n+1 689 278 1000 US\n+1 301 715 8592 US (Washington DC)\nMeeting ID: 956 2121 2763\nFind your local number: https://us06web.zoom.us/u/keAV7Krjim \n 
URL:https://sfna.org/event/joint-administartive-committee-meeting/
CATEGORIES:Area
END:VEVENT
BEGIN:VEVENT
DTSTART;TZID=America/Los_Angeles:20241111T190000
DTEND;TZID=America/Los_Angeles:20241111T190000
DTSTAMP:20260425T054113
CREATED:20220518T231719Z
LAST-MODIFIED:20250107T002552Z
UID:241-1731351600-1731351600@sfna.org
SUMMARY:Joint Administrative Committee Meeting
DESCRIPTION:SFNA is inviting you to a scheduled Zoom meeting. \nTopic: JAC (2nd Mondays)\nTime: This is a recurring meeting Meet anytime \nJoin Zoom Meeting\nhttps://us06web.zoom.us/j/95621212763 \nMeeting ID: 956 2121 2763\nOne tap mobile\n+16694449171\,\,95621212763# US\n+13462487799\,\,95621212763# US (Houston) \nDial by your location\n+1 669 444 9171 US\n+1 346 248 7799 US (Houston)\n+1 719 359 4580 US\n+1 720 707 2699 US (Denver)\n+1 253 205 0468 US\n+1 253 215 8782 US (Tacoma)\n+1 305 224 1968 US\n+1 309 205 3325 US\n+1 312 626 6799 US (Chicago)\n+1 360 209 5623 US\n+1 386 347 5053 US\n+1 507 473 4847 US\n+1 564 217 2000 US\n+1 646 558 8656 US (New York)\n+1 646 931 3860 US\n+1 689 278 1000 US\n+1 301 715 8592 US (Washington DC)\nMeeting ID: 956 2121 2763\nFind your local number: https://us06web.zoom.us/u/keAV7Krjim \n 
URL:https://sfna.org/event/joint-administartive-committee-meeting/
CATEGORIES:Area
END:VEVENT
BEGIN:VEVENT
DTSTART;TZID=America/Los_Angeles:20250514T180000
DTEND;TZID=America/Los_Angeles:20250514T200000
DTSTAMP:20260425T054113
CREATED:20250423T225125Z
LAST-MODIFIED:20250423T225125Z
UID:11313-1747245600-1747252800@sfna.org
SUMMARY:Hospitals and Institutions Subcommittee Meeting
DESCRIPTION:H&I subcommittee meeting\nMeets every second Wednesday of the month at 6pm\nIn person at\n1290 Fillmore St San Francisco\, CA  94115
URL:https://sfna.org/event/hospitals-and-institutions-subcommittee-meeting/
LOCATION:1290 Fillmore St\, 1290 Fillmore Street\, San Francisco\, CA\, 94115
CATEGORIES:Area
END:VEVENT
BEGIN:VEVENT
DTSTART;TZID=America/Los_Angeles:20250520T174500
DTEND;TZID=America/Los_Angeles:20250520T190000
DTSTAMP:20260425T054113
CREATED:20250423T232128Z
LAST-MODIFIED:20250423T232453Z
UID:11330-1747763100-1747767600@sfna.org
SUMMARY:Predatory Behavior Ad Hoc
DESCRIPTION:──────────\nSFNA is inviting you to a scheduled Zoom meeting.\nJoin Zoom Meeting\nhttps://us06web.zoom.us/j/82059474989?pwd=xTRaxpbGzcnnWEOuUn0RMhXPulJiky.1 \n\nMeeting ID: 820 5947 4989\nPasscode: 021311 \n— \nOne tap mobile\n+16694449171\,\,82059474989#\,\,\,\,*021311# US\n+12532158782\,\,82059474989#\,\,\,\,*021311# US (Tacoma) \n— \nDial by your location\n• +1 669 444 9171 US\n• +1 253 215 8782 US (Tacoma)\n• +1 346 248 7799 US (Houston)\n• +1 719 359 4580 US\n• +1 720 707 2699 US (Denver)\n• +1 253 205 0468 US\n• +1 312 626 6799 US (Chicago)\n• +1 360 209 5623 US\n• +1 386 347 5053 US\n• +1 507 473 4847 US\n• +1 564 217 2000 US\n• +1 646 558 8656 US (New York)\n• +1 646 931 3860 US\n• +1 689 278 1000 US\n• +1 301 715 8592 US (Washington DC)\n• +1 305 224 1968 US\n• +1 309 205 3325 US \nMeeting ID: 820 5947 4989\nPasscode: 021311 \nFind your local number:https://us06web.zoom.us/u/kFXAMKnmt \n──────────
URL:https://sfna.org/event/predatory-behavior-ad-hoc-2-2/
CATEGORIES:Area
END:VEVENT
BEGIN:VEVENT
DTSTART;TZID=America/Los_Angeles:20250607T120000
DTEND;TZID=America/Los_Angeles:20250607T190000
DTSTAMP:20260425T054113
CREATED:20250311T043154Z
LAST-MODIFIED:20250311T043154Z
UID:11089-1749297600-1749322800@sfna.org
SUMMARY:Surgery of the Spirit Speaker Jam
DESCRIPTION:
URL:https://sfna.org/event/surgery-of-the-spirit-speaker-jam/
LOCATION:1187 Franklin St\, 1187 Franklin St\, San Francisco\, CA\, 94109
CATEGORIES:Area,NorCal Region
ATTACH;FMTTYPE=image/jpeg:https://sfna.org/wp-content/uploads/2025/03/IMG_2544.jpeg
END:VEVENT
BEGIN:VEVENT
DTSTART;TZID=America/Los_Angeles:20241111T190000
DTEND;TZID=America/Los_Angeles:20241111T190000
DTSTAMP:20260425T054113
CREATED:20220518T231719Z
LAST-MODIFIED:20250107T002552Z
UID:241-1731351600-1731351600@sfna.org
SUMMARY:Joint Administrative Committee Meeting
DESCRIPTION:SFNA is inviting you to a scheduled Zoom meeting. \nTopic: JAC (2nd Mondays)\nTime: This is a recurring meeting Meet anytime \nJoin Zoom Meeting\nhttps://us06web.zoom.us/j/95621212763 \nMeeting ID: 956 2121 2763\nOne tap mobile\n+16694449171\,\,95621212763# US\n+13462487799\,\,95621212763# US (Houston) \nDial by your location\n+1 669 444 9171 US\n+1 346 248 7799 US (Houston)\n+1 719 359 4580 US\n+1 720 707 2699 US (Denver)\n+1 253 205 0468 US\n+1 253 215 8782 US (Tacoma)\n+1 305 224 1968 US\n+1 309 205 3325 US\n+1 312 626 6799 US (Chicago)\n+1 360 209 5623 US\n+1 386 347 5053 US\n+1 507 473 4847 US\n+1 564 217 2000 US\n+1 646 558 8656 US (New York)\n+1 646 931 3860 US\n+1 689 278 1000 US\n+1 301 715 8592 US (Washington DC)\nMeeting ID: 956 2121 2763\nFind your local number: https://us06web.zoom.us/u/keAV7Krjim \n 
URL:https://sfna.org/event/joint-administartive-committee-meeting/
CATEGORIES:Area
END:VEVENT
BEGIN:VEVENT
DTSTART;TZID=America/Los_Angeles:20250611T180000
DTEND;TZID=America/Los_Angeles:20250611T200000
DTSTAMP:20260425T054113
CREATED:20250423T225814Z
LAST-MODIFIED:20250423T225814Z
UID:11316-1749664800-1749672000@sfna.org
SUMMARY:Hospitals and Institutions Subcommittee Meeting
DESCRIPTION:H&I subcommittee meeting\nMeets every second Wednesday of the month at 6pm\nIn person at\n1290 Fillmore St San Francisco\, CA  94115
URL:https://sfna.org/event/hospitals-and-institutions-subcommittee-meeting-2/
LOCATION:1290 Fillmore St\, 1290 Fillmore Street\, San Francisco\, CA\, 94115
CATEGORIES:Area
END:VEVENT
BEGIN:VEVENT
DTSTART;TZID=America/Los_Angeles:20250614T153000
DTEND;TZID=America/Los_Angeles:20250614T170000
DTSTAMP:20260425T054113
CREATED:20250521T235352Z
LAST-MODIFIED:20250614T025133Z
UID:11463-1749915000-1749920400@sfna.org
SUMMARY:Addressing Predatory Sexual Behavior in NA
DESCRIPTION:Brainstorming ways to confront predatory behavior in the fellowship within the framework of 12 steps\, traditions\, and concepts. \nMeeting ID: 820 5947 4989\nPasscode: 021311
URL:https://sfna.org/event/addressing-predatory-sexual-behavior-in-na/
CATEGORIES:Area
END:VEVENT
BEGIN:VEVENT
DTSTART;TZID=America/Los_Angeles:20250621T153000
DTEND;TZID=America/Los_Angeles:20250621T170000
DTSTAMP:20260425T054113
CREATED:20250521T235658Z
LAST-MODIFIED:20250614T024711Z
UID:11466-1750519800-1750525200@sfna.org
SUMMARY:Addressing Predatory Sexual Behavior in NA
DESCRIPTION:Brainstorming ways to confront predatory behavior in the fellowship within the framework of 12 steps\, traditions\, and concepts. \nMeeting ID: 820 5947 4989\nPasscode: 021311
URL:https://sfna.org/event/addressing-predatory-sexual-behavior-in-na-2/
CATEGORIES:Area
END:VEVENT
BEGIN:VEVENT
DTSTART;TZID=America/Los_Angeles:20250704T110000
DTEND;TZID=America/Los_Angeles:20250704T160000
DTSTAMP:20260425T054113
CREATED:20250414T002227Z
LAST-MODIFIED:20250414T002227Z
UID:11265-1751626800-1751644800@sfna.org
SUMMARY:4th of July Bar-B-Cue
DESCRIPTION:
URL:https://sfna.org/event/4th-of-july-bar-b-cue-2/
LOCATION:Golden Gate Park\, Lindley Medow\, San Francisco\, CA\, United States
CATEGORIES:Area
ATTACH;FMTTYPE=image/jpeg:https://sfna.org/wp-content/uploads/2025/04/IMG_2944.jpeg
END:VEVENT
BEGIN:VEVENT
DTSTART;TZID=America/Los_Angeles:20250709T180000
DTEND;TZID=America/Los_Angeles:20250709T200000
DTSTAMP:20260425T054113
CREATED:20250423T230221Z
LAST-MODIFIED:20250423T230221Z
UID:11318-1752084000-1752091200@sfna.org
SUMMARY:Hospitals and Institutions Subcommittee Meeting
DESCRIPTION:H&I subcommittee meeting\nMeets every second Wednesday of the month at 6pm\nIn person at\n1290 Fillmore St San Francisco\, CA  94115
URL:https://sfna.org/event/hospitals-and-institutions-subcommittee-meeting-3/
LOCATION:1290 Fillmore St\, 1290 Fillmore Street\, San Francisco\, CA\, 94115
CATEGORIES:Area
END:VEVENT
BEGIN:VEVENT
DTSTART;TZID=America/Los_Angeles:20250712T110000
DTEND;TZID=America/Los_Angeles:20250712T123000
DTSTAMP:20260425T054113
CREATED:20250604T033339Z
LAST-MODIFIED:20250604T033339Z
UID:11554-1752318000-1752323400@sfna.org
SUMMARY:Disruptive and Predatory Behavior
DESCRIPTION:
URL:https://sfna.org/event/disruptive-and-predatory-behavior/
CATEGORIES:Area
ATTACH;FMTTYPE=image/jpeg:https://sfna.org/wp-content/uploads/2025/06/IMG_3829.jpeg
END:VEVENT
BEGIN:VEVENT
DTSTART;TZID=America/Los_Angeles:20250712T120000
DTEND;TZID=America/Los_Angeles:20250712T170000
DTSTAMP:20260425T054113
CREATED:20250404T155341Z
LAST-MODIFIED:20250404T155341Z
UID:11214-1752321600-1752339600@sfna.org
SUMMARY:RAW Group of SF 4 Year Anniversary Speaker Jam
DESCRIPTION:
URL:https://sfna.org/event/raw-group-of-sf-4-year-anniversary-speaker-jam/
LOCATION:2690 Ocean Ave\, 2690 Ocean Ave\, San Francisco\, 94132\, United States
CATEGORIES:Area
ATTACH;FMTTYPE=image/jpeg:https://sfna.org/wp-content/uploads/2025/04/IMG_1814.jpeg
END:VEVENT
BEGIN:VEVENT
DTSTART;TZID=America/Los_Angeles:20241111T190000
DTEND;TZID=America/Los_Angeles:20241111T190000
DTSTAMP:20260425T054113
CREATED:20220518T231719Z
LAST-MODIFIED:20250107T002552Z
UID:241-1731351600-1731351600@sfna.org
SUMMARY:Joint Administrative Committee Meeting
DESCRIPTION:SFNA is inviting you to a scheduled Zoom meeting. \nTopic: JAC (2nd Mondays)\nTime: This is a recurring meeting Meet anytime \nJoin Zoom Meeting\nhttps://us06web.zoom.us/j/95621212763 \nMeeting ID: 956 2121 2763\nOne tap mobile\n+16694449171\,\,95621212763# US\n+13462487799\,\,95621212763# US (Houston) \nDial by your location\n+1 669 444 9171 US\n+1 346 248 7799 US (Houston)\n+1 719 359 4580 US\n+1 720 707 2699 US (Denver)\n+1 253 205 0468 US\n+1 253 215 8782 US (Tacoma)\n+1 305 224 1968 US\n+1 309 205 3325 US\n+1 312 626 6799 US (Chicago)\n+1 360 209 5623 US\n+1 386 347 5053 US\n+1 507 473 4847 US\n+1 564 217 2000 US\n+1 646 558 8656 US (New York)\n+1 646 931 3860 US\n+1 689 278 1000 US\n+1 301 715 8592 US (Washington DC)\nMeeting ID: 956 2121 2763\nFind your local number: https://us06web.zoom.us/u/keAV7Krjim \n 
URL:https://sfna.org/event/joint-administartive-committee-meeting/
CATEGORIES:Area
END:VEVENT
BEGIN:VEVENT
DTSTART;TZID=America/Los_Angeles:20250809T170000
DTEND;TZID=America/Los_Angeles:20250809T220000
DTSTAMP:20260425T054113
CREATED:20250614T225347Z
LAST-MODIFIED:20250614T225347Z
UID:11618-1754758800-1754776800@sfna.org
SUMMARY:HOT AUGUST “PROM NIGHT”
DESCRIPTION:
URL:https://sfna.org/event/hot-august-prom-night/
LOCATION:First Unitarian Church\, 1187 Franklin Street\, San Francisco\, 94109\, United States
CATEGORIES:Area
ATTACH;FMTTYPE=image/jpeg:https://sfna.org/wp-content/uploads/2025/06/IMG_4266.jpeg
END:VEVENT
BEGIN:VEVENT
DTSTART;TZID=America/Los_Angeles:20241111T190000
DTEND;TZID=America/Los_Angeles:20241111T190000
DTSTAMP:20260425T054113
CREATED:20220518T231719Z
LAST-MODIFIED:20250107T002552Z
UID:241-1731351600-1731351600@sfna.org
SUMMARY:Joint Administrative Committee Meeting
DESCRIPTION:SFNA is inviting you to a scheduled Zoom meeting. \nTopic: JAC (2nd Mondays)\nTime: This is a recurring meeting Meet anytime \nJoin Zoom Meeting\nhttps://us06web.zoom.us/j/95621212763 \nMeeting ID: 956 2121 2763\nOne tap mobile\n+16694449171\,\,95621212763# US\n+13462487799\,\,95621212763# US (Houston) \nDial by your location\n+1 669 444 9171 US\n+1 346 248 7799 US (Houston)\n+1 719 359 4580 US\n+1 720 707 2699 US (Denver)\n+1 253 205 0468 US\n+1 253 215 8782 US (Tacoma)\n+1 305 224 1968 US\n+1 309 205 3325 US\n+1 312 626 6799 US (Chicago)\n+1 360 209 5623 US\n+1 386 347 5053 US\n+1 507 473 4847 US\n+1 564 217 2000 US\n+1 646 558 8656 US (New York)\n+1 646 931 3860 US\n+1 689 278 1000 US\n+1 301 715 8592 US (Washington DC)\nMeeting ID: 956 2121 2763\nFind your local number: https://us06web.zoom.us/u/keAV7Krjim \n 
URL:https://sfna.org/event/joint-administartive-committee-meeting/
CATEGORIES:Area
END:VEVENT
BEGIN:VEVENT
DTSTART;TZID=America/Los_Angeles:20250813T180000
DTEND;TZID=America/Los_Angeles:20250813T200000
DTSTAMP:20260425T054113
CREATED:20250423T230415Z
LAST-MODIFIED:20250423T230415Z
UID:11320-1755108000-1755115200@sfna.org
SUMMARY:Hospitals and Institutions Subcommittee Meeting
DESCRIPTION:H&I subcommittee meeting\nMeets every second Wednesday of the month at 6pm\nIn person at\n1290 Fillmore St San Francisco\, CA  94115
URL:https://sfna.org/event/hospitals-and-institutions-subcommittee-meeting-4/
LOCATION:1290 Fillmore St\, 1290 Fillmore Street\, San Francisco\, CA\, 94115
CATEGORIES:Area
END:VEVENT
END:VCALENDAR