BEGIN:VCALENDAR
VERSION:2.0
PRODID:-//San Francisco Area of Narcotics Anonymous - ECPv6.15.20//NONSGML v1.0//EN
CALSCALE:GREGORIAN
METHOD:PUBLISH
X-WR-CALNAME:San Francisco Area of Narcotics Anonymous
X-ORIGINAL-URL:https://sfna.org
X-WR-CALDESC:Events for San Francisco Area of Narcotics Anonymous
REFRESH-INTERVAL;VALUE=DURATION:PT1H
X-Robots-Tag:noindex
X-PUBLISHED-TTL:PT1H
BEGIN:VTIMEZONE
TZID:America/Los_Angeles
BEGIN:DAYLIGHT
TZOFFSETFROM:-0800
TZOFFSETTO:-0700
TZNAME:PDT
DTSTART:20240310T100000
END:DAYLIGHT
BEGIN:STANDARD
TZOFFSETFROM:-0700
TZOFFSETTO:-0800
TZNAME:PST
DTSTART:20241103T090000
END:STANDARD
BEGIN:DAYLIGHT
TZOFFSETFROM:-0800
TZOFFSETTO:-0700
TZNAME:PDT
DTSTART:20250309T100000
END:DAYLIGHT
BEGIN:STANDARD
TZOFFSETFROM:-0700
TZOFFSETTO:-0800
TZNAME:PST
DTSTART:20251102T090000
END:STANDARD
BEGIN:DAYLIGHT
TZOFFSETFROM:-0800
TZOFFSETTO:-0700
TZNAME:PDT
DTSTART:20260308T100000
END:DAYLIGHT
BEGIN:STANDARD
TZOFFSETFROM:-0700
TZOFFSETTO:-0800
TZNAME:PST
DTSTART:20261101T090000
END:STANDARD
END:VTIMEZONE
BEGIN:VEVENT
DTSTART;TZID=America/Los_Angeles:20250607T120000
DTEND;TZID=America/Los_Angeles:20250607T190000
DTSTAMP:20260425T052029
CREATED:20250311T043154Z
LAST-MODIFIED:20250311T043154Z
UID:11089-1749297600-1749322800@sfna.org
SUMMARY:Surgery of the Spirit Speaker Jam
DESCRIPTION:
URL:https://sfna.org/event/surgery-of-the-spirit-speaker-jam/
LOCATION:1187 Franklin St\, 1187 Franklin St\, San Francisco\, CA\, 94109
CATEGORIES:Area,NorCal Region
ATTACH;FMTTYPE=image/jpeg:https://sfna.org/wp-content/uploads/2025/03/IMG_2544.jpeg
END:VEVENT
END:VCALENDAR