BEGIN:VCALENDAR
VERSION:2.0
PRODID:-//San Francisco Area of Narcotics Anonymous - ECPv6.15.20//NONSGML v1.0//EN
CALSCALE:GREGORIAN
METHOD:PUBLISH
X-WR-CALNAME:San Francisco Area of Narcotics Anonymous
X-ORIGINAL-URL:https://sfna.org
X-WR-CALDESC:Events for San Francisco Area of Narcotics Anonymous
REFRESH-INTERVAL;VALUE=DURATION:PT1H
X-Robots-Tag:noindex
X-PUBLISHED-TTL:PT1H
BEGIN:VTIMEZONE
TZID:America/Los_Angeles
BEGIN:DAYLIGHT
TZOFFSETFROM:-0800
TZOFFSETTO:-0700
TZNAME:PDT
DTSTART:20210314T100000
END:DAYLIGHT
BEGIN:STANDARD
TZOFFSETFROM:-0700
TZOFFSETTO:-0800
TZNAME:PST
DTSTART:20211107T090000
END:STANDARD
BEGIN:DAYLIGHT
TZOFFSETFROM:-0800
TZOFFSETTO:-0700
TZNAME:PDT
DTSTART:20220313T100000
END:DAYLIGHT
BEGIN:STANDARD
TZOFFSETFROM:-0700
TZOFFSETTO:-0800
TZNAME:PST
DTSTART:20221106T090000
END:STANDARD
BEGIN:DAYLIGHT
TZOFFSETFROM:-0800
TZOFFSETTO:-0700
TZNAME:PDT
DTSTART:20230312T100000
END:DAYLIGHT
BEGIN:STANDARD
TZOFFSETFROM:-0700
TZOFFSETTO:-0800
TZNAME:PST
DTSTART:20231105T090000
END:STANDARD
END:VTIMEZONE
BEGIN:VEVENT
DTSTART;TZID=America/Los_Angeles:20221109T180000
DTEND;TZID=America/Los_Angeles:20221109T200000
DTSTAMP:20260425T065716
CREATED:20221110T022247Z
LAST-MODIFIED:20230214T045710Z
UID:1624-1668016800-1668024000@sfna.org
SUMMARY:Hospitals and Institutions Subcommittee Meeting
DESCRIPTION:H&I subcommittee meeting\nMeets every second Wednesday of the month at 6pm\nIn person at\n1290 Fillmore St San Francisco\, CA  94115 United States
URL:https://sfna.org/event/1624/
LOCATION:San Francisco Area Service Office\, 1290 Fillmore St\, San Francisco\, CA\, 94115\, United States
CATEGORIES:Area
END:VEVENT
END:VCALENDAR