BEGIN:VCALENDAR
VERSION:2.0
PRODID:-//San Francisco Area of Narcotics Anonymous - ECPv6.15.20//NONSGML v1.0//EN
CALSCALE:GREGORIAN
METHOD:PUBLISH
X-ORIGINAL-URL:https://sfna.org
X-WR-CALDESC:Events for San Francisco Area of Narcotics Anonymous
REFRESH-INTERVAL;VALUE=DURATION:PT1H
X-Robots-Tag:noindex
X-PUBLISHED-TTL:PT1H
BEGIN:VTIMEZONE
TZID:UTC
BEGIN:STANDARD
TZOFFSETFROM:+0000
TZOFFSETTO:+0000
TZNAME:UTC
DTSTART:20210101T000000
END:STANDARD
END:VTIMEZONE
BEGIN:VEVENT
DTSTART;TZID=UTC:20220612T100000
DTEND;TZID=UTC:20220612T160000
DTSTAMP:20260425T103022
CREATED:20220518T230138Z
LAST-MODIFIED:20220518T230138Z
UID:218-1655028000-1655049600@sfna.org
SUMMARY:Summer Jam
DESCRIPTION:Summer Jam 2022
URL:https://sfna.org/event/summer-jam/
LOCATION:CA
CATEGORIES:Area
END:VEVENT
END:VCALENDAR